BEGIN:VCALENDAR
VERSION:2.0
PRODID:-//Dan Stephenson - ECPv6.15.20//NONSGML v1.0//EN
CALSCALE:GREGORIAN
METHOD:PUBLISH
X-WR-CALNAME:Dan Stephenson
X-ORIGINAL-URL:https://danstephenson.ca
X-WR-CALDESC:Events for Dan Stephenson
REFRESH-INTERVAL;VALUE=DURATION:PT1H
X-Robots-Tag:noindex
X-PUBLISHED-TTL:PT1H
BEGIN:VTIMEZONE
TZID:America/Edmonton
BEGIN:DAYLIGHT
TZOFFSETFROM:-0700
TZOFFSETTO:-0600
TZNAME:MDT
DTSTART:20160313T090000
END:DAYLIGHT
BEGIN:STANDARD
TZOFFSETFROM:-0600
TZOFFSETTO:-0700
TZNAME:MST
DTSTART:20161106T080000
END:STANDARD
BEGIN:DAYLIGHT
TZOFFSETFROM:-0700
TZOFFSETTO:-0600
TZNAME:MDT
DTSTART:20170312T090000
END:DAYLIGHT
BEGIN:STANDARD
TZOFFSETFROM:-0600
TZOFFSETTO:-0700
TZNAME:MST
DTSTART:20171105T080000
END:STANDARD
BEGIN:DAYLIGHT
TZOFFSETFROM:-0700
TZOFFSETTO:-0600
TZNAME:MDT
DTSTART:20180311T090000
END:DAYLIGHT
BEGIN:STANDARD
TZOFFSETFROM:-0600
TZOFFSETTO:-0700
TZNAME:MST
DTSTART:20181104T080000
END:STANDARD
BEGIN:DAYLIGHT
TZOFFSETFROM:-0700
TZOFFSETTO:-0600
TZNAME:MDT
DTSTART:20190310T090000
END:DAYLIGHT
BEGIN:STANDARD
TZOFFSETFROM:-0600
TZOFFSETTO:-0700
TZNAME:MST
DTSTART:20191103T080000
END:STANDARD
BEGIN:DAYLIGHT
TZOFFSETFROM:-0700
TZOFFSETTO:-0600
TZNAME:MDT
DTSTART:20200308T090000
END:DAYLIGHT
BEGIN:STANDARD
TZOFFSETFROM:-0600
TZOFFSETTO:-0700
TZNAME:MST
DTSTART:20201101T080000
END:STANDARD
BEGIN:DAYLIGHT
TZOFFSETFROM:-0700
TZOFFSETTO:-0600
TZNAME:MDT
DTSTART:20210314T090000
END:DAYLIGHT
BEGIN:STANDARD
TZOFFSETFROM:-0600
TZOFFSETTO:-0700
TZNAME:MST
DTSTART:20211107T080000
END:STANDARD
BEGIN:DAYLIGHT
TZOFFSETFROM:-0700
TZOFFSETTO:-0600
TZNAME:MDT
DTSTART:20220313T090000
END:DAYLIGHT
BEGIN:STANDARD
TZOFFSETFROM:-0600
TZOFFSETTO:-0700
TZNAME:MST
DTSTART:20221106T080000
END:STANDARD
BEGIN:DAYLIGHT
TZOFFSETFROM:-0700
TZOFFSETTO:-0600
TZNAME:MDT
DTSTART:20230312T090000
END:DAYLIGHT
BEGIN:STANDARD
TZOFFSETFROM:-0600
TZOFFSETTO:-0700
TZNAME:MST
DTSTART:20231105T080000
END:STANDARD
BEGIN:DAYLIGHT
TZOFFSETFROM:-0700
TZOFFSETTO:-0600
TZNAME:MDT
DTSTART:20240310T090000
END:DAYLIGHT
BEGIN:STANDARD
TZOFFSETFROM:-0600
TZOFFSETTO:-0700
TZNAME:MST
DTSTART:20241103T080000
END:STANDARD
END:VTIMEZONE
BEGIN:VEVENT
DTSTART;TZID=America/Edmonton:20230429T130000
DTEND;TZID=America/Edmonton:20230429T140000
DTSTAMP:20260423T122803
CREATED:20230418T153330Z
LAST-MODIFIED:20230418T153330Z
UID:4407-1682773200-1682776800@danstephenson.ca
SUMMARY:Podcast Starter Guide
DESCRIPTION:This session is part of The Creator Sessions at Calgary Expo 2023. Attendees will need a pass to Expo to attend. \nSo you’ve got a great idea for a podcast – now what? Learn how to make your podcast stand out and how to format your show to match your goals. The session will also give you a primer on the gear you need to get started and the importance of a website for your podcast so the world can find you.
URL:https://danstephenson.ca/event/podcast-starter-guide/
LOCATION:BMO Centre\, 20 Roundup Way SE\, Calgary\, Alberta\, T2G 2W1\, Canada
CATEGORIES:Talk
END:VEVENT
BEGIN:VEVENT
DTSTART;TZID=America/Edmonton:20201105T180000
DTEND;TZID=America/Edmonton:20201105T210000
DTSTAMP:20260423T122803
CREATED:20201105T011159Z
LAST-MODIFIED:20201105T011159Z
UID:4325-1604599200-1604610000@danstephenson.ca
SUMMARY:WordPress For Podcasters (2020 Edition)
DESCRIPTION:So you’ve got a great idea for a podcast? Maybe you’ve even recorded an episode or two? Now what? How do you get that show online for the world to hear? \nWordPress for Podcasters will teach you how to turn a WordPress site into the ultimate podcaster’s tool\, to automate the distribution of your show\, create feeds\, take listener voicemail\, and a whole lot more. You’ll be able to do all of this with little to no coding knowledge. \nThis session is presented by Dan Stephenson – Host and Producer of the popular Fireside Chat podcast – which is now in its eighth year\, and also a podcast consultant helping new podcasters and businesses get their podcasts up and running. \nAfter the presentation\, the floor will be open for general podcast discussion and chat.
URL:https://danstephenson.ca/event/wordpress-for-podcasters-2020/
LOCATION:Zoom
CATEGORIES:Talk
END:VEVENT
BEGIN:VEVENT
DTSTART;TZID=America/Edmonton:20180525T110000
DTEND;TZID=America/Edmonton:20180525T120000
DTSTAMP:20260423T122803
CREATED:20180508T164627Z
LAST-MODIFIED:20180515T203614Z
UID:4105-1527246000-1527249600@danstephenson.ca
SUMMARY:WordCampYYC 2018 - From Local To Live: Launching Your Site The Simple Way
DESCRIPTION:For the third year in a row I’ll be presenting a session at WordCampYYC. WordCampYYC is an informal\, community-organized event by the local WordPress community. Everyone from casual users to core developers participate\, share ideas\, and get to know each other. We have speakers talking about design\, development\, content\, SEO\, marketing\, and anything relating to running a WordPress site. You can learn more about WordCampYYC or buy a ticket on their website. \nOne of the biggest challenges for new WordPress developers is taking that beautiful site that they built on their own computer or local server\, and going live without having to rebuild the entire site from scratch. \nThis session will explore the easiest ways to launch you site\, and eliminate the headache. I’ll cover a few easy (plugin based) ways of doing this\, explain the pitfalls of each\, and then show my prefered (though more technical) workflow.
URL:https://danstephenson.ca/event/wordcamp-yyc-2018/
LOCATION:Fort Calgary\, 750 9 Ave SE\, Calgary\, Alberta\, T2G 5E1\, Canada
CATEGORIES:Workshop
END:VEVENT
BEGIN:VEVENT
DTSTART;TZID=America/Edmonton:20180522T183000
DTEND;TZID=America/Edmonton:20180522T210000
DTSTAMP:20260423T122803
CREATED:20180502T161827Z
LAST-MODIFIED:20180502T161911Z
UID:4080-1527013800-1527022800@danstephenson.ca
SUMMARY:Buying Audio Gear for your First Podcast
DESCRIPTION:On Tuesday\, May 22\, 2018 I’ll be presenting for the Calgary Casters meetup group\, where I will be sharing my tips and tricks to get new podcasters started with all the gear they need to produce a great podcast\, without breaking the bank. \nI’ll show new podcasters (and those frugal casters looking for an upgrade) how to get started for less than $50\, and what pieces to upgrade from there. At the end of the presentation\, there will be a Q&A session where myself and other experienced podcasters will be happy to answer any questions you may have. \nAs the Host and Producer of Fireside Chat\, I have wasted a lot of money buying the wrong gear\, or gear that was right “for now”\, but wouldn’t let me scale as the show grew or our needs changed. I don’t want you to make the same mistakes that I did. This presentation is designed to help you make the most of your hard-earned money\, and buy only the gear you need\, and gear that will last you for a long time as your show grows. \nIf you’d like to attend\, you can RSVP or get more details on the Meetup event page. Please RSVP so we know how many people to expect.
URL:https://danstephenson.ca/event/buying-gear-first-podcast/
LOCATION:Alberta
CATEGORIES:Workshop
END:VEVENT
BEGIN:VEVENT
DTSTART;TZID=America/Edmonton:20180414T150000
DTEND;TZID=America/Edmonton:20180414T163000
DTSTAMP:20260423T122803
CREATED:20180502T163246Z
LAST-MODIFIED:20180502T163246Z
UID:4096-1523718000-1523723400@danstephenson.ca
SUMMARY:Calgary Magic Circle Variety Show
DESCRIPTION:I will be performing as part of the Calgary Magic Circle Variety Show as part of the Weekend of Amazement on April 14\, 2018. This an all ages show that features 5 of Calgary’s best magicians – Malcolm Russell\, Lothar Malmberg\, Sean Maloney\, Carisa Hendrix (performing as Lucy Darling) and myself – along with our emcee Steve Olson. I’ll be performing a mentalism experiment at the show that is sure to impress and amaze everyone in your family. \nWe don’t have a lot of public magic shows in Calgary\, so I am very proud to be part of this one. Come check out the show\, I’d love to see you and your family there. \nA Weekend of Magic at the Pumphouse Theatre featuring the most amazing magicians from the Calgary area that deliver a variety of magic shows for all ages. Besides the show I am performing in\, there are two other great shows to attend as well.
URL:https://danstephenson.ca/event/cmc-variety-show-2017/
LOCATION:Pumphouse Theatre\, 2140 Pumphouse Ave SW\, Calgary\, Alberta\, T3C 3P5\, Canada
CATEGORIES:Magic
END:VEVENT
BEGIN:VEVENT
DTSTART;TZID=America/Edmonton:20170413T183000
DTEND;TZID=America/Edmonton:20170413T213000
DTSTAMP:20260423T122803
CREATED:20180502T160839Z
LAST-MODIFIED:20180502T160839Z
UID:4074-1492108200-1492119000@danstephenson.ca
SUMMARY:Free Workshop: WordPress For Podcasters Workshop
DESCRIPTION:I originally presented my ‘WordPress for Podcasters’ workshop at WordCamp YYC 2016. It was very well received and I’ve been asked to present it again as a free workshop for any podcaster or budding podcaster who wants to attend. This will be an updated version of the workshop\, with updated information as well as new tips and tricks I’ve used since I presented the original. \nThis session assumes you already know how to create your audio and/or video content for your new podcast\, and will walk you through some of the tools that make it easy to publish and promote your podcast online easily by customizing your RSS feed\, embedding and hosting your own media content\, integrating with popular social media sites\, submitting to iTunes and Google Play Music and more. \nPlease RSVP on Meetup.com if you plan to attend\, so we know how big of a venue is needed >
URL:https://danstephenson.ca/event/wordpress-for-podcasters-2017/
LOCATION:CommunityWise\, 223 12 Ave SW\, Calgary\, Alberta\, T2R 0G9\, Canada
END:VEVENT
END:VCALENDAR